BEGIN:VCALENDAR
VERSION:2.0
PRODID:-//Emerald Island Garden Center - ECPv6.15.20//NONSGML v1.0//EN
CALSCALE:GREGORIAN
METHOD:PUBLISH
X-WR-CALNAME:Emerald Island Garden Center
X-ORIGINAL-URL:https://emeraldislandgardencenter.com
X-WR-CALDESC:Events for Emerald Island Garden Center
REFRESH-INTERVAL;VALUE=DURATION:PT1H
X-Robots-Tag:noindex
X-PUBLISHED-TTL:PT1H
BEGIN:VTIMEZONE
TZID:America/New_York
BEGIN:DAYLIGHT
TZOFFSETFROM:-0500
TZOFFSETTO:-0400
TZNAME:EDT
DTSTART:20200308T070000
END:DAYLIGHT
BEGIN:STANDARD
TZOFFSETFROM:-0400
TZOFFSETTO:-0500
TZNAME:EST
DTSTART:20201101T060000
END:STANDARD
BEGIN:DAYLIGHT
TZOFFSETFROM:-0500
TZOFFSETTO:-0400
TZNAME:EDT
DTSTART:20210314T070000
END:DAYLIGHT
BEGIN:STANDARD
TZOFFSETFROM:-0400
TZOFFSETTO:-0500
TZNAME:EST
DTSTART:20211107T060000
END:STANDARD
BEGIN:DAYLIGHT
TZOFFSETFROM:-0500
TZOFFSETTO:-0400
TZNAME:EDT
DTSTART:20220313T070000
END:DAYLIGHT
BEGIN:STANDARD
TZOFFSETFROM:-0400
TZOFFSETTO:-0500
TZNAME:EST
DTSTART:20221106T060000
END:STANDARD
END:VTIMEZONE
BEGIN:VEVENT
DTSTART;VALUE=DATE:20210528
DTEND;VALUE=DATE:20210531
DTSTAMP:20260421T054008
CREATED:20210528T161618Z
LAST-MODIFIED:20210528T161618Z
UID:4064-1622160000-1622419199@emeraldislandgardencenter.com
SUMMARY:Emerald Island Memorial Day Weekend Sale
DESCRIPTION:Please join us for our Memorial Day Weekend Sale to receive $5 off of your $25 purchase! \nFriday 8am-5pm – Saturday 9am-5pm – Sunday 11am-4pm – CLOSED: Memorial Day. \nOffer expires May 30th. Not valid with other offers\, discounts\, and gift cards.
URL:https://emeraldislandgardencenter.com/event/emerald-island-memorial-day-weekend-sale/
END:VEVENT
END:VCALENDAR